Workbook
Name \A: #REF!
Name \A: #REF!
Name \A: #REF!
Name \A: #REF!
Name \B: #REF!
Name \B: #REF!
Name \B: #REF!
Name \B: #REF!
Name \C: #REF!
Name \C: #REF!
Name \C: #REF!
Name \C: #REF!
Name \D: #REF!
Name \D: #REF!
Name \D: #REF!
Name \D: #REF!
Name \E: #REF!
Name \E: #REF!
Name \E: #REF!
Name \E: #REF!
Name \F: #REF!
Name \F: #REF!
Name \F: #REF!
Name \F: #REF!
Name \G: #REF!
Name \G: #REF!
Name \G: #REF!
Name \G: #REF!
Name \H: #REF!
Name \H: #REF!
Name \H: #REF!
Name \H: #REF!
Name \J: #REF!
Name \J: #REF!
Name \J: #REF!
Name \J: #REF!
Name \K: #REF!
Name \K: #REF!
Name \K: #REF!
Name \K: #REF!
Name \L: #REF!
Name \L: #REF!
Name \P: #REF!
Name \P: #REF!
Name \Q: #REF!
Name \Q: #REF!
Name \Q: #REF!
Name \Q: #REF!
Name \x: #REF!
Name \x: #REF!
Name \x: #REF!
Name \x: #REF!
Name \z: #REF!
Name \z: #REF!
Name \z: #REF!
Name \z: #REF!
Name _______________: '[1]22 March 2000'!#REF!
Name _______________: '[2]22 March 2000'!#REF!
Name _______________: '[1]22 March 2000'!#REF!
Name _____________________sec12: #REF!

Sheet Summary
A1: THE NATIONAL ZOOLOGICAL GARDENS OF SOUTH AFRICA IN PRETORIA
A3: THE SOUTH AFRICAN NATIONAL BIODIVERSITY INSTITUTE (SANBI)
A4: THE DESIGN, UPGRADE AND RECONSTRUCTION OF THE AQUARIUM AND ASSOCIATED TANKS, REPTILE PARK AND OUTDOOR AQUATIC POOLS
A7: SUMMARY OF SCHEDULES
A10: SCHEDULE | B10: DESCRIPTION | F10: AMOUNT
A13: SCHEDULE 1: | B13: PRELIMINARIES AND GENERALS
A15: SCHEDULE 2: | B15: BUILDING WORKS
A17: SCHEDULE 3: | B17: ELECTRICAL INSTALLATIONS
A19: SCHEDULE 4: | B19: MECHANICAL INSTALLATIONS
A53: SUB-TOTAL 1
A55: ADD: 10% CONTINGENCIES | D55: 0.05
A57: SUB-TOTAL 2
A59: ADD 15% VAT | D59: 0.15
A61: TOTAL AMOUNT CARRIED TO FORM OF OFFER AND ACCEPTANCE

Sheet P and Gs
A1: =Summary!A1 -> THE NATIONAL ZOOLOGICAL GARDENS OF SOUTH AFRICA IN PRETORIA
A2: THE SOUTH AFRICAN NATIONAL BIODIVERSITY INSTITUTE (SANBI)
A3: =Summary!A4 -> THE DESIGN, UPGRADE AND RECONSTRUCTION OF THE AQUARIUM AND ASSOCIATED TANKS, REPTILE PARK AND OUTDOOR AQUATIC POOLS
A4: SCHEDULE 1 : PRELIMINARY AND GENERAL
A6: ITEM | B6: PAYM. | C6: DESCRIPTION | D6: UNIT | E6: QTY | F6: RATE | G6: AMOUNT
A7: NO. | B7: REF.
B9: SABS | C9: PRELIMINARY AND GENERAL
B10: 1200 A
A11: 1.1 | B11: 8.3
A12: 1.1.1 | B12: PSA 4.1 | C12: Contractual Requirements | D12: Sum | E12: 1
A14: 1.1.2 | B14: 8.3.2 | C14: Establish facilities on the site
A16: 1.1.2.1 | B16: 8.3.2.1 | C16: i) Facilities for Engineer | G16: =IF(OR(AND(E16="Prov",F16="Sum"),(F16="PC Sum")),". . . . . . . . .00",IF(ISERR(E16*F16),"",IF(E16*F16=0,"",ROUND(E16*F16,2))))
B18: PSA 4.5 | C18: a) Furnished offices (1x) and meeting facility | D18: Sum | E18: 1
C20: b) Contract Name board | D20: Sum | E20: 1
A22: 1.1.2.2 | B22: 8.3.2.2 | C22: ii) Facilities for Contractor
C24: a) Offices and storage sheds | D24: Sum | E24: 1
C26: b) Workshops | D26: Sum | E26: 1
G27: =IF(OR(AND(E27="Prov",F27="Sum"),(F27="PC Sum")),". . . . . . . . .00",IF(ISERR(E27*F27),"",IF(E27*F27=0,"",ROUND(E27*F27,2))))
C28: c) Ablution and latrine facilities | D28: Sum | E28: 1 | G28: =IF(OR(AND(E28="Prov",F28="Sum"),(F28="PC Sum")),". . . . . . . . .00",IF(ISERR(E28*F28),"",IF(E28*F28=0,"",ROUND(E28*F28,2))))
G29: =IF(OR(AND(E29="Prov",F29="Sum"),(F29="PC Sum")),". . . . . . . . .00",IF(ISERR(E29*F29),"",IF(E29*F29=0,"",ROUND(E29*F29,2))))
C30: d) Tools and equipment | D30: Sum | E30: 1 | G30: =IF(OR(AND(E30="Prov",F30="Sum"),(F30="PC Sum")),". . . . . . . . .00",IF(ISERR(E30*F30),"",IF(E30*F30=0,"",ROUND(E30*F30,2))))
G31: =IF(OR(AND(E31="Prov",F31="Sum"),(F31="PC Sum")),". . . . . . . . .00",IF(ISERR(E31*F31),"",IF(E31*F31=0,"",ROUND(E31*F31,2))))
C32: e) Water supplies, electric power | G32: =IF(OR(AND(E32="Prov",F32="Sum"),(F32="PC Sum")),". . . . . . . . .00",IF(ISERR(E32*F32),"",IF(E32*F32=0,"",ROUND(E32*F32,2))))
C33: & communications | D33: Sum | E33: 1 | G33: =IF(OR(AND(E33="Prov",F33="Sum"),(F33="PC Sum")),". . . . . . . . .00",IF(ISERR(E33*F33),"",IF(E33*F33=0,"",ROUND(E33*F33,2))))
G34: =IF(OR(AND(E34="Prov",F34="Sum"),(F34="PC Sum")),". . . . . . . . .00",IF(ISERR(E34*F34),"",IF(E34*F34=0,"",ROUND(E34*F34,2))))
C35: f) Dealing with water | D35: Sum | E35: 1 | G35: =IF(OR(AND(E35="Prov",F35="Sum"),(F35="PC Sum")),". . . . . . . . .00",IF(ISERR(E35*F35),"",IF(E35*F35=0,"",ROUND(E35*F35,2))))
G36: =IF(OR(AND(E36="Prov",F36="Sum"),(F36="PC Sum")),". . . . . . . . .00",IF(ISERR(E36*F36),"",IF(E36*F36=0,"",ROUND(E36*F36,2))))
C37: g) Access | D37: Sum | E37: 1 | G37: =IF(OR(AND(E37="Prov",F37="Sum"),(F37="PC Sum")),". . . . . . . . .00",IF(ISERR(E37*F37),"",IF(E37*F37=0,"",ROUND(E37*F37,2))))
G38: =IF(OR(AND(E38="Prov",F38="Sum"),(F38="PC Sum")),". . . . . . . . .00",IF(ISERR(E38*F38),"",IF(E38*F38=0,"",ROUND(E38*F38,2))))
C39: h) Plant | D39: Sum | E39: 1 | G39: =IF(OR(AND(E39="Prov",F39="Sum"),(F39="PC Sum")),". . . . . . . . .00",IF(ISERR(E39*F39),"",IF(E39*F39=0,"",ROUND(E39*F39,2))))
G40: =IF(OR(AND(E40="Prov",F40="Sum"),(F40="PC Sum")),". . . . . . . . .00",IF(ISERR(E40*F40),"",IF(E40*F40=0,"",ROUND(E40*F40,2))))
A41: 1.1.2.3 | B41: 8.3.4 | C41: Removal of Engineer's and Contractor's site establishment from site on completion of works. | G41: =IF(OR(AND(E41="Prov",F41="Sum"),(F41="PC Sum")),". . . . . . . . .00",IF(ISERR(E41*F41),"",IF(E41*F41=0,"",ROUND(E41*F41,2))))
D42: Sum | E42: 1 | G42: =IF(OR(AND(E42="Prov",F42="Sum"),(F42="PC Sum")),". . . . . . . . .00",IF(ISERR(E42*F42),"",IF(E42*F42=0,"",ROUND(E42*F42,2))))
G43: =IF(OR(AND(E43="Prov",F43="Sum"),(F43="PC Sum")),". . . . . . . . .00",IF(ISERR(E43*F43),"",IF(E43*F43=0,"",ROUND(E43*F43,2))))
A44: 1.2 | B44: 8.4 | C44: TIME RELATED ITEMS | G44: =IF(OR(AND(E44="Prov",F44="Sum"),(F44="PC Sum")),". . . . . . . . .00",IF(ISERR(E44*F44),"",IF(E44*F44=0,"",ROUND(E44*F44,2))))
A46: 1.2.1 | B46: PSA 4.2 | C46: Contractual requirements | D46: Sum | E46: 12 | G46: =IF(OR(AND(E46="Prov",F46="Sum"),(F46="PC Sum")),". . . . . . . . .00",IF(ISERR(E46*F46),"",IF(E46*F46=0,"",ROUND(E46*F46,2))))
G47: =IF(OR(AND(E47="Prov",F47="Sum"),(F47="PC Sum")),". . . . . . . . .00",IF(ISERR(E47*F47),"",IF(E47*F47=0,"",ROUND(E47*F47,2))))
A48: 1.3 | B48: 8.4.2 | C48: Operations and maintenance of facilities on site | G48: =IF(OR(AND(E48="Prov",F48="Sum"),(F48="PC Sum")),". . . . . . . . .00",IF(ISERR(E48*F48),"",IF(E48*F48=0,"",ROUND(E48*F48,2))))
A50: 1.3.1 | B50: 8.4.2.1 | C50: Facilities for Employer's Agent for duration of construction | G50: =IF(OR(AND(E50="Prov",F50="Sum"),(F50="PC Sum")),". . . . . . . . .00",IF(ISERR(E50*F50),"",IF(E50*F50=0,"",ROUND(E50*F50,2))))
G51: =IF(OR(AND(E51="Prov",F51="Sum"),(F51="PC Sum")),". . . . . . . . .00",IF(ISERR(E51*F51),"",IF(E51*F51=0,"",ROUND(E51*F51,2))))
...

Sheet Building Works Summary
A1: =Summary!A1 -> THE NATIONAL ZOOLOGICAL GARDENS OF SOUTH AFRICA IN PRETORIA
A2: ='P and Gs'!A2:F2 -> THE SOUTH AFRICAN NATIONAL BIODIVERSITY INSTITUTE (SANBI)
A3: THE DESIGN, UPGRADE AND RECONSTRUCTION OF THE AQUARIUM AND ASSOCIATED TANKS, REPTILE PARK AND OUTDOOR AQUATIC POOLS
A5: SCHEDULE 2: SUMMARY OF BUILDING WORKS
A7: ITEM NO | B7: DESCRIPTION | C7: AMOUNT
A9: 2.1 | B9: Alterations
A11: 2.2 | B11: Earthworks
A13: 2.3 | B13: Concrete, Formwork and Reinforcement
A15: 2.4 | B15: Brickwork
A17: 2.5 | B17: Waterproofing
A19: 2.6 | B19: Roof Coverings, etc
A21: 2.7 | B21: Carpentry and Joinery
A23: 2.8 | B23: Floor Coverings
A25: 2.9 | B25: Ironmongery
A27: 2.10 | B27: Structural Steelwork
A29: 2.11 | B29: Metalwork
A31: 2.12 | B31: Plastering
... A41: 2.17 | B41: External Works
B52: Total Carried To Final Summary

Sheet Building Works
A1: ='Building Works Summary'!A1 -> THE NATIONAL ZOOLOGICAL GARDENS OF SOUTH AFRICA IN PRETORIA
A2: ='Building Works Summary'!A2 -> THE SOUTH AFRICAN NATIONAL BIODIVERSITY INSTITUTE (SANBI)
A3: ='Building Works Summary'!A3 -> THE DESIGN, UPGRADE AND RECONSTRUCTION OF THE AQUARIUM AND ASSOCIATED TANKS, REPTILE PARK AND OUTDOOR AQUATIC POOLS
A4: SCHEDULE 2: BUILDING WORKS
A6: ITEM NO | B6: DESCRIPTION | C6: UNIT | D6: QTY | E6: RATE | F6: AMOUNT
B8: BILL NO. 1 | F8: =IF(OR(AND(D8="Prov",E8="Sum"),(E8="PC Sum")),". . . . . . . . .00",IF(ISERR(D8*E8),"",IF(D8*E8=0,"",ROUND(D8*E8,2))))
B10: ALTERATIONS | F10: =IF(OR(AND(D10="Prov",E10="Sum"),(E10="PC Sum")),". . . . . . . . .00",IF(ISERR(D10*E10),"",IF(D10*E10=0,"",ROUND(D10*E10,2))))
F11: =IF(OR(AND(D11="Prov",E11="Sum"),(E11="PC Sum")),". . . . . . . . .00",IF(ISERR(D11*E11),"",IF(D11*E11=0,"",ROUND(D11*E11,2))))
B12: PREAMBLES | F12: =IF(OR(AND(D12="Prov",E12="Sum"),(E12="PC Sum")),". . . . . . . . .00",IF(ISERR(D12*E12),"",IF(D12*E12=0,"",ROUND(D12*E12,2))))
F13: =IF(OR(AND(D13="Prov",E13="Sum"),(E13="PC Sum")),". . . . . . . . .00",IF(ISERR(D13*E13),"",IF(D13*E13=0,"",ROUND(D13*E13,2))))
B14: For preambles see 'Model Preambles for Trades, 2008 Edition as published by Association of South African Quantity Surveyors, SANS Standards and PW371 Specification of materials and methods to be used as Published by National Department of Public Works & Infrastructure | F14: =IF(OR(AND(D14="Prov",E14="Sum"),(E14="PC Sum")),". . . . . . . . .00",IF(ISERR(D14*E14),"",IF(D14*E14=0,"",ROUND(D14*E14,2))))
F15: =IF(OR(AND(D15="Prov",E15="Sum"),(E15="PC Sum")),". . . . . . . . .00",IF(ISERR(D15*E15),"",IF(D15*E15=0,"",ROUND(D15*E15,2))))
A16: 2.1 | B16: REMOVAL OF EXISTING WORK | F16: =IF(OR(AND(D16="Prov",E16="Sum"),(E16="PC Sum")),". . . . . . . . .00",IF(ISERR(D16*E16),"",IF(D16*E16=0,"",ROUND(D16*E16,2))))
F17: =IF(OR(AND(D17="Prov",E17="Sum"),(E17="PC Sum")),". . . . . . . . .00",IF(ISERR(D17*E17),"",IF(D17*E17=0,"",ROUND(D17*E17,2))))
A18: 2.1.1 | B18: Breaking up and removing reinforced concrete, including cutting off and removing reinforcement | F18: =IF(OR(AND(D18="Prov",E18="Sum"),(E18="PC Sum")),". . . . . . . . .00",IF(ISERR(D18*E18),"",IF(D18*E18=0,"",ROUND(D18*E18,2))))
A20: 2.1.1.1 | B20: 100mm thick unreinforced concrete | C20: m2 | D20: 274 | G20: =110+98 -> 208 | I20: 66 | L20: =SUM(G20:K20) -> 274
L21: =SUM(G21:K21) -> 0
A22: 2.1.1.2 | B22: 60mm thick paving | C22: m2 | D22: 60 | I22: 60 | L22: =SUM(G22:K22) -> 60
L23: =SUM(G23:K23) -> 0
A24: 2.1.1.3 | B24: Fibre cement islands and waterfall from floors and walls | C24: m3 | D24: 175 | I24: 175 | L24: =SUM(G24:K24) -> 175
L25: =SUM(G25:K25) -> 0
A26: 2.1.2 | B26: Breaking down and removing brickwork, etc. | L26: =SUM(G26:K26) -> 0
L27: =SUM(G27:K27) -> 0
A28: 2.1.2.1 | B28: One brick wall | C28: m2 | D28: 32 | G28: 12 | J28: 20 | L28: =SUM(G28:K28) -> 32
L29: =SUM(G29:K29) -> 0
A30: 2.1.3 | B30: Taking down and removing roofs, floors, panelling, ceilings, partitions, etc. | L30: =SUM(G30:K30) -> 0
L31: =SUM(G31:K31) -> 0
A32: 2.1.3.1 | B32: Steel roof sheets including from purlins | C32: m2 | D32: 113 | I32: 113 | L32: =SUM(G32:K32) -> 113
L33: =SUM(G33:K33) -> 0
A34: 2.1.3.2 | B34: Shadenet from timber purlins | C34: m2 | D34: 152 | G34: 17 | I34: 135 | L34: =SUM(G34:K34) -> 152
L35: =SUM(G35:K35) -> 0
A36: 2.1.3.3 | B36: Timber columns, beams and supports | C36: m | D36: 88 | G36: =16+42+30 -> 88 | L36: =SUM(G36:K36) -> 88
L37: =SUM(G37:K37) -> 0
A38: 2.1.3.4 | B38: Timber pole handrail slates | C38: m2 | D38: 96 | G38: 32 | I38: 64 | L38: =SUM(G38:K38) -> 96
L39: =SUM(G39:K39) -> 0
A40: 2.1.3.5 | B40: Timber deck including pannelling and supports | C40: m2 | D40: 50 | G40: 34 | I40: 16 | L40: =SUM(G40:K40) -> 50
L41: =SUM(G41:K41) -> 0
A42: 2.1.4 | B42: Taking out and removing doors, windows, etc. from brickwork to be demolished | L42: =SUM(G42:K42) -> 0
L43: =SUM(G43:K43) -> 0
A44: 2.1.4.1 | B44: Steel gate and frame size 1 000 x 2 032mm high | C44: No | D44: 1 | G44: 1 | L44: =SUM(G44:K44) -> 1
...

Sheet Electr summ
A2: ='Electrical Inst'!A1 -> THE NATIONAL ZOOLOGICAL GARDENS OF SOUTH AFRICA IN PRETORIA
A3: ='Electrical Inst'!A2 -> THE DESIGN, UPGRADE AND RECONSTRUCTION OF THE AQUARIUM AND ASSOCIATED TANKS, REPTILE PARK AND OUTDOOR AQUATIC POOLS
A5: ='Electrical Inst'!A3 -> ELECTRICAL INSTALLATIONS
A7: ITEM | B7: DESCRIPTION | D7: UNIT | E7: QTY | F7: AMOUNT
C10: SUMMARY
A12: 6.1 | B12: BILL 1: RETICULATION AND DISTRIBUTION BOARDS | D12: Sum | E12: 1
A13: 6.2 | B13: BILL 2: STORMY BAY - ELECTRICAL INSTALLATIONS | D13: Sum | E13: 1
A14: 6.3 | B14: BILL 3: OTTA POOLS - ELECTRICAL INSTALLATIONS | D14: Sum | E14: 1
A15: 6.4 | B15: BILL 4 - BUDGETARY ITEMS | D15: Sum | E15: 1
A16: 6.5 | B16: BILL 5: LABELLING, DOCUMENTATION AND GUARANTEES | D16: Sum | E16: 1
B24: SUB-TOTAL A (Excluding VAT)
B25: Add CONTIGENCY @ 5%
B26: SUB-TOTAL B (Including contingency and excluding VAT)
B27: Add P`s & G`s @ 10%
A29: TOTAL AMOUNT CARRIED TO FINAL SUMMARY (Excluding VAT)

Sheet Electrical Inst
A1: ='Building Works'!A1 -> THE NATIONAL ZOOLOGICAL GARDENS OF SOUTH AFRICA IN PRETORIA
A2: ='Building Works'!A3:E3 -> THE DESIGN, UPGRADE AND RECONSTRUCTION OF THE AQUARIUM AND ASSOCIATED TANKS, REPTILE PARK AND OUTDOOR AQUATIC POOLS
A3: ELECTRICAL INSTALLATIONS
A5: Item | B5: Description | C5: Unit | D5: Quantity | E5: Rate | F5: Amount
B8: BILL 1: RETICULATION AND DISTRIBUTION BOARDS
B10: Distribution Boards
B11: Distribution boards complete with all MCBs, switchgear, accessories, sheet metal frames, sub-frames, busbars, terminals, wiring, conduit terminations, labelling, fixtures and fittings as specified, with all equipment fitted and equipped in factory all strictly as per schematic diagram.
B12: (Please note that the distribution board's shop drawing should be submitted to the Engineer for approval prior to manufacture).
B14: DB-P
A15: 1.1 | B15: Supply | C15: No. | D15: 1
A16: 1.2 | B16: Install | C16: No. | D16: =D15 -> 1
B18: DB-O1
A19: 1.3 | B19: Supply | C19: No. | D19: 1
A20: 1.4 | B20: Install | C20: No. | D20: =D19 -> 1
B22: DB-O2
A23: 1.5 | B23: Supply | C23: No. | D23: 1
A24: 1.6 | B24: Install | C24: No. | D24: =D23 -> 1
B27: DB (200 x 200) surface outdoor empty DB box
A28: 1.7 | B28: Supply | C28: No. | D28: 1
A29: 1.8 | B29: Install | C29: No. | D29: =D28 -> 1
B32: 63A CB, 5KA, Three phase
A33: 1.9 | B33: Supply | C33: No. | D33: 1
A34: 1,10 | B34: Install | C34: No. | D34: =D33 -> 1
B36: 20A CB, 5KA, Single phase
A37: 1.11 | B37: Supply | C37: No. | D37: 4
A38: 1.12 | B38: Install | C38: No. | D38: =D37 -> 4
B40: 15A CB, 5KA, Single phase
A41: 1.13 | B41: Supply | C41: No. | D41: 5
A42: 1.14 | B42: Install | C42: No. | D42: =D41 -> 5
B45: 130A CB, 5KA, Three phase
A46: 1.15 | B46: Supply | C46: No. | D46: 1
A47: 1.16 | B47: Install | C47: No. | D47: =D46 -> 1
A55: CARRIED FORWARD
A56: Item | B56: Description | C56: Unit | D56: Quantity | E56: Rate | F56: Amount
A58: BROUGHT FORWARD
B60: Low voltage cables
B61: 600/1 000V PVC/PVC/SWA/PVC multi-core copper cable installed in sleeves (sleeves measured elsewhere)
B63: 35mm² 4 Core
A64: 1.21 | B64: Supply | C64: m | D64: 50
A65: 1.22 | B65: Install | C65: m | D65: =D64 -> 50
...

Sheet mech summ
A1: ='Bill 3-Penguin Pool'!A1 -> THE NATIONAL ZOOLOGICAL GARDENS OF SOUTH AFRICA IN PRETORIA
A2: ='Bill 3-Penguin Pool'!A2 -> MECHANICAL INSTALLATIONS
A4: ITEM | B4: DESCRIPTION | C4: UNIT | F4: AMOUNT
B6: SUMMARY
A7: 1 | B7: Otter Pools | C7: Item | F7: ='Bill 1- Otter Pools'!F40 -> 0
A8: 2 | B8: Seal Pool | C8: Item | F8: ='Bill 2-Seal Pool'!F35 -> 0
A9: 3 | B9: Penguin Pool | C9: Item | F9: ='Bill 3-Penguin Pool'!F43 -> 0
A10: 4 | B10: Operating & Maintenance Manuals and AS BUILT drawings | C10: Item | F10: 20000
B11: Sub-Total
A12: 5 | B12: P & G Items for Mechanical Subcontract | C12: Item | F12: Included | G12: 200000
A13: 6 | B13: Contigencies | C13: Item | F13: Included | G13: 250000
A14: 7 | B14: Total for Mechanical Services Sub- Contract | C14: Item | F14: =F11 -> 0
B16: DAY WORKS AND ADDITIONAL MATERIAL
B17: Provisional sum above to be expended as and when required upon instructions from the engineer and against which the contractor shall have no claim except where such instructions are passed and deducted in whole or in part if not required. The rates for items below shall be used
B19: Labour
B20: The rates for labour in dayworks are to be applied to the hours worked and are to include overheads, profits, etc.
B22: Normal Time
B23: Technician
B24: Apprentice
B25: Semi-skilled
B26: Labourer
B28: Sundays and Public Holidays
B29: Technician
B30: Apprentice
... B39: 5 ton truck in dayworks
B44: TOTAL MECHANICAL TENDER SUM CARRIED TO MAIN CONTRACT SUMMARY | F44: =SUM(F14) -> 0

Sheet Bill 1- Otter Pools
A1: ='Electrical Inst'!A1 -> THE NATIONAL ZOOLOGICAL GARDENS OF SOUTH AFRICA IN PRETORIA
A2: MECHANICAL INSTALLATIONS
A4: ITEM | B4: DESCRIPTION | C4: UNIT | D4: QTY | E4: RATE | F4: AMOUNT
A6: 1 | B6: OTTER POOLS MECHANICAL SYSTEMS
B8: Design, manufacture, works testing, supply and delivery to site, moving into position, erection, connecting up, site testing, witness testing, proving to the inspectors, demonstrating to the Employer and maintenance of the complete installation as outlined in the specification and on the drawings.
A10: 1.1 | B10: New circulation pump as Howden Nomaflo 80-250, 18kW or approved equal and new pool water strainer with 80mm dia. connection | C10: No. | D10: 1
A11: 1.2 | B11: Refurbish the existing circulation pump as Howden Nomaflo 80-250,18kW and existing strainer | C11: No. | D11: 1
B12: mPVC pipe to SANS 966-2 including pipe fittings as necessary to make a complete installation
A13: 1.3 | B13: 80mm | C13: m | D13: 80
A14: 1.4 | B14: 50mm | C14: m | D14: 25
A15: 1.5 | B15: 32mm | C15: m | D15: 15
B16: Potable water pipes including pipe fittings as necessary to make a complete installation
A17: 1.6 | B17: 20mm Class 9 HDPE pipe | C17: m | D17: 30
A18: 1.7 | B18: 15mm Class O copper to SANS 460 | C18: m | D18: 6
B19: Valves
A20: 1.8 | B20: 32mm uPVC valve | C20: No. | D20: 4
A21: 1.9 | B21: 50mm uPVC valve | C21: No. | D21: 4
A22: 1.10 | B22: 80mm butterfly flanged steel valves | C22: No. | D22: 4
A23: 1.11 | B23: 20mm brass ball valve | C23: No. | D23: 2
B24: Pool overflow water inlet with leaf catchers
A25: 1.12 | B25: 200mm dia with 80 NB connection | C25: No. | D25: 2
A26: 1.13 | B26: 100mm dia with 50 NB connection | C26: No. | D26: 2
B27: Pool water return inlet with strainer
A28: 1.14 | B28: 200mm dia with 80 NB connection | C28: No. | D28: 1
A29: 1.15 | B29: 100mm dia with 50 NB connection | C29: No. | D29: 2
B30: Filter banks
A31: 1.16 | B31: Refurbish Existing set of 4 filters | C31: No. | D31: 1
A32: 1.17 | B32: New set of 4 filters complete with connections and fittings | C32: No. | D32: 1
B33: Drainage Sump
A34: 1.18 | B34: 300 x 300 cast iron stormwater sump grate | C34: No. | D34: 1
A35: 1.19 | B35: 110 UG PVC to SANS 967 storm water drainage pipe | C35: m | D35: 10
B36: Testing & Maintenance
A37: 1.20 | B37: Alow for testing and commissioning to the satisfaction of the engineer | C37: Item | D37: 1
A39: 1.21 | B39: Allow for maintenance during defects liability period in terms of the contract | C39: Item | D39: 1
B40: Total carried to Summary Page | F40: =SUM(F9:F39) -> 0

Sheet Bill 2-Seal Pool
A1: ='Bill 1- Otter Pools'!A1 -> THE NATIONAL ZOOLOGICAL GARDENS OF SOUTH AFRICA IN PRETORIA
A2: ='Bill 1- Otter Pools'!A2 -> MECHANICAL INSTALLATIONS
A4: ITEM | B4: DESCRIPTION | C4: UNIT | D4: QUANTITY | E4: RATE | F4: AMOUNT
A6: 2 | B6: SEAL POOL
B8: Design, manufacture, works testing, supply and delivery to site, moving into position, erection, connecting up, site testing, witness testing, proving to the inspectors, demonstrating to the Employer and maintenance of the complete installation as per conditions of contract and the specification and on drawings.
B10: mPVC pipe to SANS 966-2 including pipe fittings as necessary to make a complete installation
A11: 2.1 | B11: 250mm | C11: m | D11: 30
A12: 2.2 | B12: 160mm | C12: m | D12: 10
B13: Fittings
A14: 2.3 | B14: 250mm butterfly valve | C14: No. | D14: 1
A15: 2.4 | B15: Pool water filter with 250mm inlet | C15: No. | D15: 1
A16: 2.5 | B16: 600mm dia drain fittings with strainer grate and vortex inhibitor | C16: No. | D16: 4
A17: 2.6 | B17: Allow for 250 mm dia pipe connection to pumps suction header | C17: Item | D17: 1
A18: 2.7 | B18: Allow for 100mm wide x 4000mm long overflow grate with leaf strainer over trench and connection to existing pipe | C18: Item | D18: 1
A19: 2.8 | B19: 300 x 300 cast iron stormwater sump grating | C19: No. | D19: 1
A20: 2.9 | B20: 110 UG PVC to SANS 967 storm water drainage pipe | C20: m | D20: 20
A22: 2.10 | B22: Allowance for remedial work on clarifiers | C22: Item | D22: 1
B24: Testing and Commissioning
A25: 2.11 | B25: Testing and commissioning to the satisfaction of the engineer | C25: Item | D25: 1
A26: 2.12 | B26: Allow for maintenance during defects liability period in terms of the contract | C26: Item | D26: 1
B35: Total carried to Summary Page

Sheet Bill 3-Penguin Pool
A1: ='Bill 2-Seal Pool'!A1 -> THE NATIONAL ZOOLOGICAL GARDENS OF SOUTH AFRICA IN PRETORIA
A2: ='Bill 2-Seal Pool'!A2 -> MECHANICAL INSTALLATIONS
A4: ITEM | B4: DESCRIPTION | C4: UNIT | D4: QTY | E4: RATE | F4: AMOUNT
A6: 3 | B6: PENGUIN POOL
B8: Design, manufacture, works testing, supply and delivery to site, moving into position, erection, connecting up, site testing, witness testing, proving to the inspectors, demonstrating to the Employer and maintenance of the complete installation as outlined in the specification and on the drawings.
A10: 3.1 | B10: Wall mounted extract propeller fans duty 1.5m³/s at 250Pa to be complete with controller and external weather louvre | C10: No. | D10: 2
A12: 3.2 | B12: 1500 x 900 anodized aluminium louvres as TROX AWK or equal | C12: No. | D12: 2
A14: 3.3 | B14: 300mm dia overflow pool water return fitting with strainer | C14: No. | D14: 1
A16: 3.4 | B16: 100mm dia Class 4 HDPE Pipe | C16: m | D16: 10
A18: 3.5 | B18: Allow for the decommissioning of the cooling system and recommissioning of the water circulation system with cooling system decommissioned | C18: Item | D18: 1
B20: Testing & Commissioning
A22: 3.6 | B22: Testing and commissioning to the satisfaction of the engineer | C22: Item | D22: 1
A24: 3.7 | B24: Allow for maintenance during defect liability period in terms of the contract | C24: Item | D24: 1
B43: Total carried to Summary Page
